BEGIN:VCALENDAR
VERSION:2.0
PRODID:-// - ECPv5.0.1//NONSGML v1.0//EN
CALSCALE:GREGORIAN
METHOD:PUBLISH
X-ORIGINAL-URL:https://lowrydenver.com
X-WR-CALDESC:Events for 
BEGIN:VTIMEZONE
TZID:America/Denver
BEGIN:DAYLIGHT
TZOFFSETFROM:-0700
TZOFFSETTO:-0600
TZNAME:MDT
DTSTART:20230312T090000
END:DAYLIGHT
BEGIN:STANDARD
TZOFFSETFROM:-0600
TZOFFSETTO:-0700
TZNAME:MST
DTSTART:20231105T080000
END:STANDARD
END:VTIMEZONE
BEGIN:VEVENT
DTSTART;TZID=America/Denver:20230710T170000
DTEND;TZID=America/Denver:20230710T200000
DTSTAMP:20260424T135115
CREATED:20230620T210350Z
LAST-MODIFIED:20230709T225731Z
UID:11931-1689008400-1689019200@lowrydenver.com
SUMMARY:Treat Truck Monday: Rebel Cookie Dough
DESCRIPTION:It’s an LCMA-sponsored treat truck! Safe-to-eat cookie dough from Rebel Cookie Dough\, provided for you by the LCMA. Get one scoop with two toppings\, and the first 100 servings are free! Find them at Sunset Park. \n
URL:https://lowrydenver.com/calendar-item/treat-truck-thursday-rebel-cookie-dough/
LOCATION:Sunset Park\, Pontiac and 2nd st.\, Denver\, CO\, 80230\, United States
CATEGORIES:Events
GEO:39.7204531;-104.9058746
X-APPLE-STRUCTURED-LOCATION;VALUE=URI;X-ADDRESS=Sunset Park Pontiac and 2nd st. Denver CO 80230 United States;X-APPLE-RADIUS=500;X-TITLE=Pontiac and 2nd st.:geo:-104.9058746,39.7204531
END:VEVENT
END:VCALENDAR