BEGIN:VCALENDAR
VERSION:2.0
PRODID:-// - ECPv5.0.1//NONSGML v1.0//EN
CALSCALE:GREGORIAN
METHOD:PUBLISH
X-ORIGINAL-URL:https://lowrydenver.com
X-WR-CALDESC:Events for 
BEGIN:VTIMEZONE
TZID:America/Denver
BEGIN:DAYLIGHT
TZOFFSETFROM:-0700
TZOFFSETTO:-0600
TZNAME:MDT
DTSTART:20220313T090000
END:DAYLIGHT
BEGIN:STANDARD
TZOFFSETFROM:-0600
TZOFFSETTO:-0700
TZNAME:MST
DTSTART:20221106T080000
END:STANDARD
END:VTIMEZONE
BEGIN:VEVENT
DTSTART;TZID=America/Denver:20221204T140000
DTEND;TZID=America/Denver:20221204T160000
DTSTAMP:20260421T095015
CREATED:20220503T193642Z
LAST-MODIFIED:20221127T205004Z
UID:11681-1670162400-1670169600@lowrydenver.com
SUMMARY:Santa Tours Lowry
DESCRIPTION:The third annual visit from Santa–he’ll be touring Lowry in his sleigh to bring the holiday spirit. \n \n
URL:https://lowrydenver.com/calendar-item/santa-tours-lowry/
LOCATION:CO
CATEGORIES:Events
END:VEVENT
END:VCALENDAR