BEGIN:VCALENDAR
VERSION:2.0
PRODID:-// - ECPv5.0.1//NONSGML v1.0//EN
CALSCALE:GREGORIAN
METHOD:PUBLISH
X-ORIGINAL-URL:https://lowrydenver.com
X-WR-CALDESC:Events for 
BEGIN:VTIMEZONE
TZID:America/Denver
BEGIN:DAYLIGHT
TZOFFSETFROM:-0700
TZOFFSETTO:-0600
TZNAME:MDT
DTSTART:20150308T090000
END:DAYLIGHT
BEGIN:STANDARD
TZOFFSETFROM:-0600
TZOFFSETTO:-0700
TZNAME:MST
DTSTART:20151101T080000
END:STANDARD
END:VTIMEZONE
BEGIN:VEVENT
DTSTART;TZID=America/Denver:20150613T140000
DTEND;TZID=America/Denver:20150613T160000
DTSTAMP:20260421T163121
CREATED:20150422T220013Z
LAST-MODIFIED:20150507T203930Z
UID:3919-1434204000-1434211200@lowrydenver.com
SUMMARY:Reading Garden Annual Hanger 3 Celebration: 2-4P
DESCRIPTION:Reading Garden: 5th Ave. & Trenton\n\nJoin the Lowry Foundation in this hidden Lowry treasure for a family friendly celebration.  The Schlessman Library will be participating in this years event to sign up kids for their Summer Reading Program and provide storytime readings.  Visitors will also have the opportunity to purchase commemorative book spines that adorn the Reading Garden. \nAdmission is free and there will be treats for the kids! \n\n
URL:https://lowrydenver.com/calendar-item/reading-garden-annual-hanger-3-event-2-4p/
LOCATION:Reading Garden\, 300 Spruce St.\, Denver\, CO\, United States
GEO:39.724387;-104.896679
X-APPLE-STRUCTURED-LOCATION;VALUE=URI;X-ADDRESS=Reading Garden 300 Spruce St. Denver CO United States;X-APPLE-RADIUS=500;X-TITLE=300 Spruce St.:geo:-104.896679,39.724387
END:VEVENT
END:VCALENDAR