BEGIN:VCALENDAR
VERSION:2.0
PRODID:-// - ECPv5.0.1//NONSGML v1.0//EN
CALSCALE:GREGORIAN
METHOD:PUBLISH
X-ORIGINAL-URL:https://lowrydenver.com
X-WR-CALDESC:Events for 
BEGIN:VTIMEZONE
TZID:America/Denver
BEGIN:DAYLIGHT
TZOFFSETFROM:-0700
TZOFFSETTO:-0600
TZNAME:MDT
DTSTART:20210314T090000
END:DAYLIGHT
BEGIN:STANDARD
TZOFFSETFROM:-0600
TZOFFSETTO:-0700
TZNAME:MST
DTSTART:20211107T080000
END:STANDARD
END:VTIMEZONE
BEGIN:VEVENT
DTSTART;TZID=America/Denver:20211009T100000
DTEND;TZID=America/Denver:20211009T130000
DTSTAMP:20260425T130828
CREATED:20210909T215539Z
LAST-MODIFIED:20210909T215539Z
UID:11554-1633773600-1633784400@lowrydenver.com
SUMMARY:Private Gathering
DESCRIPTION:Private gathering\, 40 people\, contact person Laurie (720) 245-5775 \n
URL:https://lowrydenver.com/calendar-item/private-gathering-7/
LOCATION:Mustang Park\, Spruce St. and 9th Ave\, Denver\, colorado\, 80230
CATEGORIES:Park Permit
GEO:39.7310833;-104.897
X-APPLE-STRUCTURED-LOCATION;VALUE=URI;X-ADDRESS=Mustang Park Spruce St. and 9th Ave Denver colorado 80230;X-APPLE-RADIUS=500;X-TITLE=Spruce St. and 9th Ave:geo:-104.897,39.7310833
END:VEVENT
END:VCALENDAR