BEGIN:VCALENDAR
VERSION:2.0
PRODID:-// - ECPv5.0.1//NONSGML v1.0//EN
CALSCALE:GREGORIAN
METHOD:PUBLISH
X-ORIGINAL-URL:https://lowrydenver.com
X-WR-CALDESC:Events for 
BEGIN:VTIMEZONE
TZID:America/Denver
BEGIN:DAYLIGHT
TZOFFSETFROM:-0700
TZOFFSETTO:-0600
TZNAME:MDT
DTSTART:20240310T090000
END:DAYLIGHT
BEGIN:STANDARD
TZOFFSETFROM:-0600
TZOFFSETTO:-0700
TZNAME:MST
DTSTART:20241103T080000
END:STANDARD
END:VTIMEZONE
BEGIN:VEVENT
DTSTART;TZID=America/Denver:20240713T150000
DTEND;TZID=America/Denver:20240713T180000
DTSTAMP:20260421T032605
CREATED:20240619T183819Z
LAST-MODIFIED:20240619T183819Z
UID:12134-1720882800-1720893600@lowrydenver.com
SUMMARY:Private Event\, Tailwind Park\, 28 attendees
DESCRIPTION:Private event\, 28 attendees. Permit holder Nichole (303) 495-0034 \n
URL:https://lowrydenver.com/calendar-item/private-event-tailwind-park-28-attendees/
LOCATION:Tailwind Park\, Tailwind Park\, Denver\, CO\, 80230
CATEGORIES:Park Permit
GEO:39.7226583;-104.8795173
X-APPLE-STRUCTURED-LOCATION;VALUE=URI;X-ADDRESS=Tailwind Park Tailwind Park Denver CO 80230;X-APPLE-RADIUS=500;X-TITLE=Tailwind Park:geo:-104.8795173,39.7226583
END:VEVENT
END:VCALENDAR