BEGIN:VCALENDAR
VERSION:2.0
PRODID:-// - ECPv5.0.1//NONSGML v1.0//EN
CALSCALE:GREGORIAN
METHOD:PUBLISH
X-ORIGINAL-URL:https://lowrydenver.com
X-WR-CALDESC:Events for 
BEGIN:VTIMEZONE
TZID:America/Denver
BEGIN:DAYLIGHT
TZOFFSETFROM:-0700
TZOFFSETTO:-0600
TZNAME:MDT
DTSTART:20220313T090000
END:DAYLIGHT
BEGIN:STANDARD
TZOFFSETFROM:-0600
TZOFFSETTO:-0700
TZNAME:MST
DTSTART:20221106T080000
END:STANDARD
END:VTIMEZONE
BEGIN:VEVENT
DTSTART;TZID=America/Denver:20220917T110000
DTEND;TZID=America/Denver:20220917T130000
DTSTAMP:20260421T162538
CREATED:20220913T193908Z
LAST-MODIFIED:20220913T193908Z
UID:11779-1663412400-1663419600@lowrydenver.com
SUMMARY:Private Event\, Sunset Park\, 35 attendees
DESCRIPTION:Private event\, 35 attendees. Permit holder Joseph (805) 705-3939 \n
URL:https://lowrydenver.com/calendar-item/private-event-sunset-park-35-attendees-4/
LOCATION:Sunset Park\, Pontiac and 2nd st.\, Denver\, CO\, 80230\, United States
CATEGORIES:Park Permit
GEO:39.7204531;-104.9058746
X-APPLE-STRUCTURED-LOCATION;VALUE=URI;X-ADDRESS=Sunset Park Pontiac and 2nd st. Denver CO 80230 United States;X-APPLE-RADIUS=500;X-TITLE=Pontiac and 2nd st.:geo:-104.9058746,39.7204531
END:VEVENT
END:VCALENDAR