BEGIN:VCALENDAR
VERSION:2.0
PRODID:-// - ECPv5.0.1//NONSGML v1.0//EN
CALSCALE:GREGORIAN
METHOD:PUBLISH
X-ORIGINAL-URL:https://lowrydenver.com
X-WR-CALDESC:Events for 
BEGIN:VTIMEZONE
TZID:America/Denver
BEGIN:DAYLIGHT
TZOFFSETFROM:-0700
TZOFFSETTO:-0600
TZNAME:MDT
DTSTART:20240310T090000
END:DAYLIGHT
BEGIN:STANDARD
TZOFFSETFROM:-0600
TZOFFSETTO:-0700
TZNAME:MST
DTSTART:20241103T080000
END:STANDARD
END:VTIMEZONE
BEGIN:VEVENT
DTSTART;TZID=America/Denver:20240622T170000
DTEND;TZID=America/Denver:20240622T200000
DTSTAMP:20260422T233901
CREATED:20240520T202911Z
LAST-MODIFIED:20240520T202911Z
UID:12123-1719075600-1719086400@lowrydenver.com
SUMMARY:Private Event\, Sunset Park\, 30 attendees
DESCRIPTION:Private event\, 30 attendees. Permit holder Sharon (303) 579-0103 \n
URL:https://lowrydenver.com/calendar-item/private-event-sunset-park-30-attendees-12/
LOCATION:Sunset Park\, Pontiac and 2nd st.\, Denver\, CO\, 80230\, United States
CATEGORIES:Park Permit
GEO:39.7204531;-104.9058746
X-APPLE-STRUCTURED-LOCATION;VALUE=URI;X-ADDRESS=Sunset Park Pontiac and 2nd st. Denver CO 80230 United States;X-APPLE-RADIUS=500;X-TITLE=Pontiac and 2nd st.:geo:-104.9058746,39.7204531
END:VEVENT
END:VCALENDAR