BEGIN:VCALENDAR
VERSION:2.0
PRODID:-// - ECPv5.0.1//NONSGML v1.0//EN
CALSCALE:GREGORIAN
METHOD:PUBLISH
X-ORIGINAL-URL:https://lowrydenver.com
X-WR-CALDESC:Events for 
BEGIN:VTIMEZONE
TZID:America/Denver
BEGIN:DAYLIGHT
TZOFFSETFROM:-0700
TZOFFSETTO:-0600
TZNAME:MDT
DTSTART:20260308T090000
END:DAYLIGHT
BEGIN:STANDARD
TZOFFSETFROM:-0600
TZOFFSETTO:-0700
TZNAME:MST
DTSTART:20261101T080000
END:STANDARD
END:VTIMEZONE
BEGIN:VEVENT
DTSTART;TZID=America/Denver:20260503T090000
DTEND;TZID=America/Denver:20260503T130000
DTSTAMP:20260422T033241
CREATED:20260421T183722Z
LAST-MODIFIED:20260421T183722Z
UID:12532-1777798800-1777813200@lowrydenver.com
SUMMARY:Private event\, Mustang Park
DESCRIPTION:Private event\, 50 attendees. Permit holder Mark (608) 963-9674 \n
URL:https://lowrydenver.com/calendar-item/private-event-mustang-park-7/
LOCATION:Mustang Park\, Spruce St. and 9th Ave\, Denver\, colorado\, 80230
CATEGORIES:Park Permit
GEO:39.7310833;-104.897
X-APPLE-STRUCTURED-LOCATION;VALUE=URI;X-ADDRESS=Mustang Park Spruce St. and 9th Ave Denver colorado 80230;X-APPLE-RADIUS=500;X-TITLE=Spruce St. and 9th Ave:geo:-104.897,39.7310833
END:VEVENT
END:VCALENDAR