BEGIN:VCALENDAR
VERSION:2.0
PRODID:-// - ECPv5.0.1//NONSGML v1.0//EN
CALSCALE:GREGORIAN
METHOD:PUBLISH
X-ORIGINAL-URL:https://lowrydenver.com
X-WR-CALDESC:Events for 
BEGIN:VTIMEZONE
TZID:America/Denver
BEGIN:DAYLIGHT
TZOFFSETFROM:-0700
TZOFFSETTO:-0600
TZNAME:MDT
DTSTART:20230312T090000
END:DAYLIGHT
BEGIN:STANDARD
TZOFFSETFROM:-0600
TZOFFSETTO:-0700
TZNAME:MST
DTSTART:20231105T080000
END:STANDARD
END:VTIMEZONE
BEGIN:VEVENT
DTSTART;TZID=America/Denver:20230629T180000
DTEND;TZID=America/Denver:20230629T200000
DTSTAMP:20260420T161740
CREATED:20230629T010149Z
LAST-MODIFIED:20230629T010149Z
UID:11937-1688061600-1688068800@lowrydenver.com
SUMMARY:Music in the Park: O’Rourke & Lammens
DESCRIPTION:Enjoy live acoustic music from area musicians Bill O’Rourke and Mike Lammens! You may be familiar with their tenure at Bayaud Park for the past couple of summers; find them Thursday evenings at Sunset Park through September. \n
URL:https://lowrydenver.com/calendar-item/music-in-the-park-orourke-lammens/2023-06-29/
LOCATION:Sunset Park\, Pontiac and 2nd st.\, Denver\, CO\, 80230\, United States
CATEGORIES:Events
GEO:39.7204531;-104.9058746
X-APPLE-STRUCTURED-LOCATION;VALUE=URI;X-ADDRESS=Sunset Park Pontiac and 2nd st. Denver CO 80230 United States;X-APPLE-RADIUS=500;X-TITLE=Pontiac and 2nd st.:geo:-104.9058746,39.7204531
END:VEVENT
END:VCALENDAR