BEGIN:VCALENDAR
VERSION:2.0
PRODID:-// - ECPv5.0.1//NONSGML v1.0//EN
CALSCALE:GREGORIAN
METHOD:PUBLISH
X-ORIGINAL-URL:https://lowrydenver.com
X-WR-CALDESC:Events for 
BEGIN:VTIMEZONE
TZID:America/Denver
BEGIN:DAYLIGHT
TZOFFSETFROM:-0700
TZOFFSETTO:-0600
TZNAME:MDT
DTSTART:20190310T090000
END:DAYLIGHT
BEGIN:STANDARD
TZOFFSETFROM:-0600
TZOFFSETTO:-0700
TZNAME:MST
DTSTART:20191103T080000
END:STANDARD
END:VTIMEZONE
BEGIN:VEVENT
DTSTART;TZID=America/Denver:20191113T180000
DTEND;TZID=America/Denver:20191113T200000
DTSTAMP:20260421T112847
CREATED:20190222T205518Z
LAST-MODIFIED:20190222T205518Z
UID:8866-1573668000-1573675200@lowrydenver.com
SUMMARY:LUN Quarterly Meeting
DESCRIPTION:Attend quarterly meetings of your Registered Neighborhood Organization\, Lowry United Neighborhoods; meetings are open to friends and neighbors in Lowry. Register for email updates here. \n
URL:https://lowrydenver.com/calendar-item/lun-quarterly-meeting-3/
LOCATION:Eisenhower Chapel\, 293 Roslyn Street\, Denver\, CO\, 80230\, United States
CATEGORIES:Special Committee Meetings
GEO:39.7213079;-104.9016882
X-APPLE-STRUCTURED-LOCATION;VALUE=URI;X-ADDRESS=Eisenhower Chapel 293 Roslyn Street Denver CO 80230 United States;X-APPLE-RADIUS=500;X-TITLE=293 Roslyn Street:geo:-104.9016882,39.7213079
END:VEVENT
END:VCALENDAR