BEGIN:VCALENDAR
VERSION:2.0
PRODID:-// - ECPv5.0.1//NONSGML v1.0//EN
CALSCALE:GREGORIAN
METHOD:PUBLISH
X-ORIGINAL-URL:https://lowrydenver.com
X-WR-CALDESC:Events for 
BEGIN:VTIMEZONE
TZID:America/Denver
BEGIN:DAYLIGHT
TZOFFSETFROM:-0700
TZOFFSETTO:-0600
TZNAME:MDT
DTSTART:20150308T090000
END:DAYLIGHT
BEGIN:STANDARD
TZOFFSETFROM:-0600
TZOFFSETTO:-0700
TZNAME:MST
DTSTART:20151101T080000
END:STANDARD
END:VTIMEZONE
BEGIN:VEVENT
DTSTART;TZID=America/Denver:20150402T080000
DTEND;TZID=America/Denver:20150402T103000
DTSTAMP:20260423T153036
CREATED:20150317T162357Z
LAST-MODIFIED:20150317T162420Z
UID:3690-1427961600-1427970600@lowrydenver.com
SUMMARY:LRA Design Review Committee 8-10:45A
DESCRIPTION:
URL:https://lowrydenver.com/calendar-item/lra-design-review-committee-8-1045a-4/
LOCATION:Boulevard One\, 7290 E. First Avenue Denver\, Denver\, CO\, 80230
CATEGORIES:LDRC
GEO:39.7182968;-104.9040605
X-APPLE-STRUCTURED-LOCATION;VALUE=URI;X-ADDRESS=Boulevard One 7290 E. First Avenue Denver Denver CO 80230;X-APPLE-RADIUS=500;X-TITLE=7290 E. First Avenue Denver:geo:-104.9040605,39.7182968
END:VEVENT
END:VCALENDAR