BEGIN:VCALENDAR
VERSION:2.0
PRODID:-// - ECPv5.0.1//NONSGML v1.0//EN
CALSCALE:GREGORIAN
METHOD:PUBLISH
X-ORIGINAL-URL:https://lowrydenver.com
X-WR-CALDESC:Events for 
BEGIN:VTIMEZONE
TZID:America/Denver
BEGIN:DAYLIGHT
TZOFFSETFROM:-0700
TZOFFSETTO:-0600
TZNAME:MDT
DTSTART:20150308T090000
END:DAYLIGHT
BEGIN:STANDARD
TZOFFSETFROM:-0600
TZOFFSETTO:-0700
TZNAME:MST
DTSTART:20151101T080000
END:STANDARD
END:VTIMEZONE
BEGIN:VEVENT
DTSTART;TZID=America/Denver:20150825T080000
DTEND;TZID=America/Denver:20150825T100000
DTSTAMP:20260423T153508
CREATED:20150804T181251Z
LAST-MODIFIED:20150804T182405Z
UID:4499-1440489600-1440496800@lowrydenver.com
SUMMARY:LRA Board of Directors Meeting 8-10A
DESCRIPTION:Meetings \n \n
URL:https://lowrydenver.com/calendar-item/lra-board-of-directors-meeting/
CATEGORIES:LDRC
END:VEVENT
END:VCALENDAR