BEGIN:VCALENDAR
VERSION:2.0
PRODID:-// - ECPv5.0.1//NONSGML v1.0//EN
CALSCALE:GREGORIAN
METHOD:PUBLISH
X-ORIGINAL-URL:https://lowrydenver.com
X-WR-CALDESC:Events for 
BEGIN:VTIMEZONE
TZID:America/Denver
BEGIN:DAYLIGHT
TZOFFSETFROM:-0700
TZOFFSETTO:-0600
TZNAME:MDT
DTSTART:20140309T090000
END:DAYLIGHT
BEGIN:STANDARD
TZOFFSETFROM:-0600
TZOFFSETTO:-0700
TZNAME:MST
DTSTART:20141102T080000
END:STANDARD
END:VTIMEZONE
BEGIN:VEVENT
DTSTART;TZID=America/Denver:20140919T173000
DTEND;TZID=America/Denver:20140919T220000
DTSTAMP:20260421T163047
CREATED:20140411T123700Z
LAST-MODIFIED:20140826T200337Z
UID:2547-1411147800-1411164000@lowrydenver.com
SUMMARY:Lowry Wine / Beer Walk & Concert:  5:30-10P @ Lowry Town Center
DESCRIPTION:Join us on Friday\, September 19th 5:30-10P in the Lowry Town Center at 200 Quebec St.\, Denver\, CO 80230 for Lowry’s Wine Walk & Concert.  Kick the evening off with a USO-style show by the Metropolitan Jazz Orchestra featuring Pink Champagne followed by the band Soul School – back by popular demand!  Enjoy wine\, beer\, live music and dancing – brought to you by the Lowry Town Center Merchant’s Association and the Lowry Community Master Association. \n
URL:https://lowrydenver.com/calendar-item/lowry-wine-walk-concert-530-10p-lowry-town-center/
LOCATION:Lowry Town Center
END:VEVENT
END:VCALENDAR