BEGIN:VCALENDAR
VERSION:2.0
PRODID:-// - ECPv5.0.1//NONSGML v1.0//EN
CALSCALE:GREGORIAN
METHOD:PUBLISH
X-ORIGINAL-URL:https://lowrydenver.com
X-WR-CALDESC:Events for 
BEGIN:VTIMEZONE
TZID:America/Denver
BEGIN:DAYLIGHT
TZOFFSETFROM:-0700
TZOFFSETTO:-0600
TZNAME:MDT
DTSTART:20160313T090000
END:DAYLIGHT
BEGIN:STANDARD
TZOFFSETFROM:-0600
TZOFFSETTO:-0700
TZNAME:MST
DTSTART:20161106T080000
END:STANDARD
END:VTIMEZONE
BEGIN:VEVENT
DTSTART;TZID=America/Denver:20160505T080000
DTEND;TZID=America/Denver:20160505T090000
DTSTAMP:20260423T141113
CREATED:20160302T000913Z
LAST-MODIFIED:20160502T131849Z
UID:5230-1462435200-1462438800@lowrydenver.com
SUMMARY:Lowry Design Review Committee:  8:00A @ the LRA Office
DESCRIPTION:The Lowry Design Review Committee considers proposals for new or large redevelopment projects in the Lowry community.  The meetings are held the first Thursday of each month at the Lowry Redevelopment Authority (LRA) offices on the Boulevard One development site\, on Lowry Boulevard just west of Quebec.  Meeting agendas will be posted 48 hours prior to the meeting.  If you have questions about the Lowry Design Review Committee\, please call the LCMA at (720) 583-5262. \n  \nAGENDA\nLOWRY DESIGN REVIEW COMMITTEE \n  \n7290 E. First Avenue  \nDenver\, CO  80230 \n  \nMay 5th\, 2016  \n8:00 a.m.  \n  \n\nMinutes Approval (4/7)\n\n  \n\nPublic Comment (taken after each presentation)\n\n  \n\nAlliance Residential                                                                          8:00-9:00\n\nMulti-family Rentals \n8505 E Lowry Blvd. (corner of Lowry Blvd/Uinta) \nDesign Development Review \n  \n\nZocalo 55+ Apartments                                                                    9:00-10:00\n\n79 Rampart Way \nPre-Design Presentation \n  \n\n101 Ulster Ct.                                                                                     10:00-10:15\n\nRetail Building \nFinal Approval \n  \n\nAdministrative Items                                                             10:15-10:30\n\n\nDesign Development Phase Definition for legacy Lowry\nDesign Guidelines Revisions\nDropBox\n\n  \n
URL:https://lowrydenver.com/calendar-item/lowry-design-review-committee-815a-at-the-lra-offices/
LOCATION:LRA Offices\, 130 Rampart Way Ste 225\, Denver\, CO\, 80230\, United States
GEO:39.7206474;-104.898287
X-APPLE-STRUCTURED-LOCATION;VALUE=URI;X-ADDRESS=LRA Offices 130 Rampart Way Ste 225 Denver CO 80230 United States;X-APPLE-RADIUS=500;X-TITLE=130 Rampart Way Ste 225:geo:-104.898287,39.7206474
END:VEVENT
END:VCALENDAR