BEGIN:VCALENDAR
VERSION:2.0
PRODID:-// - ECPv5.0.1//NONSGML v1.0//EN
CALSCALE:GREGORIAN
METHOD:PUBLISH
X-ORIGINAL-URL:https://lowrydenver.com
X-WR-CALDESC:Events for 
BEGIN:VTIMEZONE
TZID:America/Denver
BEGIN:DAYLIGHT
TZOFFSETFROM:-0700
TZOFFSETTO:-0600
TZNAME:MDT
DTSTART:20150308T090000
END:DAYLIGHT
BEGIN:STANDARD
TZOFFSETFROM:-0600
TZOFFSETTO:-0700
TZNAME:MST
DTSTART:20151101T080000
END:STANDARD
END:VTIMEZONE
BEGIN:VEVENT
DTSTART;TZID=America/Denver:20150324T170000
DTEND;TZID=America/Denver:20150324T190000
DTSTAMP:20260422T134446
CREATED:20150304T224858Z
LAST-MODIFIED:20150304T224858Z
UID:3624-1427216400-1427223600@lowrydenver.com
SUMMARY:Lowry Business Alliance Happy Hour--3/24
DESCRIPTION:Tuesday\, 3/24 5:00-7:00 pm\nHappy Hour\nNorth County Restaurant\nHangar 2–94 North Rampart Way\nJoin other business folks and residents for a special event at Lowry’s newest hot spot! \n
URL:https://lowrydenver.com/calendar-item/lowry-business-alliance-happy-hour-324/
LOCATION:North County Restaurant\, 94 North Rampart Way\, Denver\, CO\, 80230\, United States
GEO:39.7201277;-104.8980731
X-APPLE-STRUCTURED-LOCATION;VALUE=URI;X-ADDRESS=North County Restaurant 94 North Rampart Way Denver CO 80230 United States;X-APPLE-RADIUS=500;X-TITLE=94 North Rampart Way:geo:-104.8980731,39.7201277
END:VEVENT
END:VCALENDAR