BEGIN:VCALENDAR
VERSION:2.0
PRODID:-// - ECPv5.0.1//NONSGML v1.0//EN
CALSCALE:GREGORIAN
METHOD:PUBLISH
X-ORIGINAL-URL:https://lowrydenver.com
X-WR-CALDESC:Events for 
BEGIN:VTIMEZONE
TZID:America/Denver
BEGIN:DAYLIGHT
TZOFFSETFROM:-0700
TZOFFSETTO:-0600
TZNAME:MDT
DTSTART:20150308T090000
END:DAYLIGHT
BEGIN:STANDARD
TZOFFSETFROM:-0600
TZOFFSETTO:-0700
TZNAME:MST
DTSTART:20151101T080000
END:STANDARD
END:VTIMEZONE
BEGIN:VEVENT
DTSTART;TZID=America/Denver:20150429T083000
DTEND;TZID=America/Denver:20150429T213000
DTSTAMP:20260424T073819
CREATED:20150414T191105Z
LAST-MODIFIED:20150426T123550Z
UID:3844-1430296200-1430343000@lowrydenver.com
SUMMARY:Lowry Business Alliance--Breakfast Meetup 8:30A
DESCRIPTION:LBA Breakfast Meet-Up\nWednesday\, April 29\, 8:30-9:30\nEinstein’s\nOur informal breakfast gatherings are a great way to get together with other Alliance members in a small group setting. \nRSVP to helen@compuskills.com \n
URL:https://lowrydenver.com/calendar-item/lowry-business-alliance-breakfast-meetup/
CATEGORIES:Events
END:VEVENT
END:VCALENDAR