BEGIN:VCALENDAR
VERSION:2.0
PRODID:-// - ECPv5.0.1//NONSGML v1.0//EN
CALSCALE:GREGORIAN
METHOD:PUBLISH
X-ORIGINAL-URL:https://lowrydenver.com
X-WR-CALDESC:Events for 
BEGIN:VTIMEZONE
TZID:America/Denver
BEGIN:DAYLIGHT
TZOFFSETFROM:-0700
TZOFFSETTO:-0600
TZNAME:MDT
DTSTART:20260308T090000
END:DAYLIGHT
BEGIN:STANDARD
TZOFFSETFROM:-0600
TZOFFSETTO:-0700
TZNAME:MST
DTSTART:20261101T080000
END:STANDARD
END:VTIMEZONE
BEGIN:VEVENT
DTSTART;TZID=America/Denver:20260514T170000
DTEND;TZID=America/Denver:20260514T210000
DTSTAMP:20260423T222212
CREATED:20260423T181405Z
LAST-MODIFIED:20260423T181405Z
UID:12538-1778778000-1778792400@lowrydenver.com
SUMMARY:Live music: The Owls
DESCRIPTION:The Owls will be in Sunset Park on Thursday evenings throughout the summer. For scheduling updates and other pertinent info\, email bill@williamhorourke.com \n
URL:https://lowrydenver.com/calendar-item/live-music-the-owls/2026-05-14/
LOCATION:Sunset Park\, Pontiac and 2nd st.\, Denver\, CO\, 80230\, United States
CATEGORIES:Park Permit
GEO:39.7204531;-104.9058746
X-APPLE-STRUCTURED-LOCATION;VALUE=URI;X-ADDRESS=Sunset Park Pontiac and 2nd st. Denver CO 80230 United States;X-APPLE-RADIUS=500;X-TITLE=Pontiac and 2nd st.:geo:-104.9058746,39.7204531
END:VEVENT
END:VCALENDAR