BEGIN:VCALENDAR
VERSION:2.0
PRODID:-// - ECPv5.0.1//NONSGML v1.0//EN
CALSCALE:GREGORIAN
METHOD:PUBLISH
X-ORIGINAL-URL:https://lowrydenver.com
X-WR-CALDESC:Events for 
BEGIN:VTIMEZONE
TZID:America/Denver
BEGIN:DAYLIGHT
TZOFFSETFROM:-0700
TZOFFSETTO:-0600
TZNAME:MDT
DTSTART:20200308T090000
END:DAYLIGHT
BEGIN:STANDARD
TZOFFSETFROM:-0600
TZOFFSETTO:-0700
TZNAME:MST
DTSTART:20201101T080000
END:STANDARD
END:VTIMEZONE
BEGIN:VEVENT
DTSTART;TZID=America/Denver:20201203T180000
DTEND;TZID=America/Denver:20201203T181500
DTSTAMP:20260424T181946
CREATED:20200211T235318Z
LAST-MODIFIED:20200211T235318Z
UID:11153-1607018400-1607019300@lowrydenver.com
SUMMARY:LCMA Budget Ratification Meeting
DESCRIPTION:
URL:https://lowrydenver.com/calendar-item/lcma-budget-ratification-meeting/
LOCATION:Eisenhower Chapel\, 293 Roslyn Street\, Denver\, CO\, 80230\, United States
GEO:39.7213079;-104.9016882
X-APPLE-STRUCTURED-LOCATION;VALUE=URI;X-ADDRESS=Eisenhower Chapel 293 Roslyn Street Denver CO 80230 United States;X-APPLE-RADIUS=500;X-TITLE=293 Roslyn Street:geo:-104.9016882,39.7213079
END:VEVENT
END:VCALENDAR