BEGIN:VCALENDAR
VERSION:2.0
PRODID:-// - ECPv5.0.1//NONSGML v1.0//EN
CALSCALE:GREGORIAN
METHOD:PUBLISH
X-ORIGINAL-URL:https://lowrydenver.com
X-WR-CALDESC:Events for 
BEGIN:VTIMEZONE
TZID:America/Denver
BEGIN:DAYLIGHT
TZOFFSETFROM:-0700
TZOFFSETTO:-0600
TZNAME:MDT
DTSTART:20220313T090000
END:DAYLIGHT
BEGIN:STANDARD
TZOFFSETFROM:-0600
TZOFFSETTO:-0700
TZNAME:MST
DTSTART:20221106T080000
END:STANDARD
END:VTIMEZONE
BEGIN:VEVENT
DTSTART;TZID=America/Denver:20221201T180000
DTEND;TZID=America/Denver:20221201T200000
DTSTAMP:20260425T115456
CREATED:20220301T191041Z
LAST-MODIFIED:20221115T202720Z
UID:11647-1669917600-1669924800@lowrydenver.com
SUMMARY:LCMA Budget Ratification and Annual Members Meetings
DESCRIPTION:Details about these meetings are available here. \n
URL:https://lowrydenver.com/calendar-item/lcma-budget-ratification-and-annual-members-meetings/
LOCATION:CO
CATEGORIES:Board Meetings
END:VEVENT
END:VCALENDAR