BEGIN:VCALENDAR
VERSION:2.0
PRODID:-// - ECPv5.0.1//NONSGML v1.0//EN
CALSCALE:GREGORIAN
METHOD:PUBLISH
X-ORIGINAL-URL:https://lowrydenver.com
X-WR-CALDESC:Events for 
BEGIN:VTIMEZONE
TZID:America/Denver
BEGIN:DAYLIGHT
TZOFFSETFROM:-0700
TZOFFSETTO:-0600
TZNAME:MDT
DTSTART:20250309T090000
END:DAYLIGHT
BEGIN:STANDARD
TZOFFSETFROM:-0600
TZOFFSETTO:-0700
TZNAME:MST
DTSTART:20251102T080000
END:STANDARD
END:VTIMEZONE
BEGIN:VEVENT
DTSTART;TZID=America/Denver:20251204T180000
DTEND;TZID=America/Denver:20251204T190000
DTSTAMP:20260422T135206
CREATED:20250128T205859Z
LAST-MODIFIED:20250128T205859Z
UID:12233-1764871200-1764874800@lowrydenver.com
SUMMARY:LCMA Budget Ratification and Annual Meetings
DESCRIPTION:
URL:https://lowrydenver.com/calendar-item/lcma-budget-ratification-and-annual-meetings/
LOCATION:Eisenhower Chapel\, 293 Roslyn Street\, Denver\, CO\, 80230\, United States
CATEGORIES:Board Meetings
GEO:39.7213079;-104.9016882
X-APPLE-STRUCTURED-LOCATION;VALUE=URI;X-ADDRESS=Eisenhower Chapel 293 Roslyn Street Denver CO 80230 United States;X-APPLE-RADIUS=500;X-TITLE=293 Roslyn Street:geo:-104.9016882,39.7213079
END:VEVENT
END:VCALENDAR