BEGIN:VCALENDAR
VERSION:2.0
PRODID:-// - ECPv5.0.1//NONSGML v1.0//EN
CALSCALE:GREGORIAN
METHOD:PUBLISH
X-ORIGINAL-URL:https://lowrydenver.com
X-WR-CALDESC:Events for 
BEGIN:VTIMEZONE
TZID:America/Denver
BEGIN:DAYLIGHT
TZOFFSETFROM:-0700
TZOFFSETTO:-0600
TZNAME:MDT
DTSTART:20250309T090000
END:DAYLIGHT
BEGIN:STANDARD
TZOFFSETFROM:-0600
TZOFFSETTO:-0700
TZNAME:MST
DTSTART:20251102T080000
END:STANDARD
END:VTIMEZONE
BEGIN:VEVENT
DTSTART;TZID=America/Denver:20250626T180000
DTEND;TZID=America/Denver:20250626T190000
DTSTAMP:20260425T115947
CREATED:20250128T205721Z
LAST-MODIFIED:20250624T205249Z
UID:12229-1750960800-1750964400@lowrydenver.com
SUMMARY:LCMA Board of Directors Meetings
DESCRIPTION:LCMA members are welcome to attend the meeting. This meeting will be held virtually. For more information and/or to sign up for the Public Comment portion of the Board of Directors meeting agenda\, please call Executive Director Mary Carr at (720) 583-5262. \nAgenda\nCALL TO ORDER \nPUBLIC COMMENT \nACTION ITEMS \n\nApprove Board of Directors Meeting Minutes from April 24th\, 2025\n\n\nHOA Legislative Update – Elina\n\n\nUSPS Mail Theft Update – Mary\n\nCOMMITTEE REPORTS \n\nExecutive Committee\n\n\n\n\nReview March & April Financials\nNew Collections Policy\nUpdate to Covenant Enforcement Policy\nNo Collections Actions Pending\n\n\n\n\nBuildings and Grounds Committee\n\nReserve Projects Update – Jennifer\n\n\n\n\nLDRC\n\n\nExecutive Director’s Report\n\nIn-Person Board Dinner Scheduling\nSummer Events Season\n\n\n\nADJOURN \nNext Meeting:  LCMA Board of Directors Meeting\, Thursday\, August 28th\, 2025 at 6 pm via Zoom. \n  \n\n
URL:https://lowrydenver.com/calendar-item/lcma-board-of-directors-meetings-2025-06-26/
LOCATION:CO
CATEGORIES:Board Meetings
END:VEVENT
END:VCALENDAR