BEGIN:VCALENDAR
VERSION:2.0
PRODID:-// - ECPv5.0.1//NONSGML v1.0//EN
CALSCALE:GREGORIAN
METHOD:PUBLISH
X-ORIGINAL-URL:https://lowrydenver.com
X-WR-CALDESC:Events for 
BEGIN:VTIMEZONE
TZID:America/Denver
BEGIN:DAYLIGHT
TZOFFSETFROM:-0700
TZOFFSETTO:-0600
TZNAME:MDT
DTSTART:20190310T090000
END:DAYLIGHT
BEGIN:STANDARD
TZOFFSETFROM:-0600
TZOFFSETTO:-0700
TZNAME:MST
DTSTART:20191103T080000
END:STANDARD
END:VTIMEZONE
BEGIN:VEVENT
DTSTART;TZID=America/Denver:20190926T180000
DTEND;TZID=America/Denver:20190926T200000
DTSTAMP:20260421T121157
CREATED:20190206T180853Z
LAST-MODIFIED:20190926T132056Z
UID:8727-1569520800-1569528000@lowrydenver.com
SUMMARY:LCMA Board of Directors Meeting 6-8 pm @ Eisenhower Chapel
DESCRIPTION:Lowry Community Master Association Board of Directors Meeting on September 26 at 6P in the Eisenhower Chapel\, 293 Roslyn St.\, Denver\, CO 80230. Meetings are open to LCMA members. If you have any questions about the Board Meeting\, please contact Executive Director Mary Carr at (720) 583-5262. \nAgenda\nCALL TO ORDER \nPUBLIC COMMENT \n\nAmanda Sawyer\, District 5 City Councilperson\n\nACTION ITEMS \n\nApprove Board of Directors Meeting Minutes from August 22nd\, 2019\n\n\nPlan for LCMA Board Retreat Next Steps\n\nProgress on 2020 Board Priorities\n\n\n\n\nReview of Proposed 2020 Operating Budget\n\nCOMMITTEE REPORTS \n\nExecutive Committee\n\nApproval of July and August 2019 Financials\nLUN Letter to LCMA Board – Response\n\n\nBuildings and Grounds Committee\n\n\nLDRC\n\nXcel Regulator Station\n\n\nExecutive Director’s Report\n\n25th Anniversary Gala\n\nRSVP Count for LCMA Reserved Table(s)\n\n\nDenver Parks & Recreation Advocacy\n\n\n\nADJOURN \nNext Meeting:  LCMA Board of Directors Meeting\, Monday\, November 4\, 2019 at 6 pm in Eisenhower Chapel \n
URL:https://lowrydenver.com/calendar-item/lcma-board-of-directors-meeting-6-8-pm-eisenhower-chapel-5/
LOCATION:Eisenhower Chapel Loft\, 293 Roslyn St\, Denver\, CO\, 80230\, United States
CATEGORIES:Board Meetings
GEO:39.7213079;-104.9016882
X-APPLE-STRUCTURED-LOCATION;VALUE=URI;X-ADDRESS=Eisenhower Chapel Loft 293 Roslyn St Denver CO 80230 United States;X-APPLE-RADIUS=500;X-TITLE=293 Roslyn St:geo:-104.9016882,39.7213079
END:VEVENT
END:VCALENDAR