BEGIN:VCALENDAR
VERSION:2.0
PRODID:-// - ECPv5.0.1//NONSGML v1.0//EN
CALSCALE:GREGORIAN
METHOD:PUBLISH
X-ORIGINAL-URL:https://lowrydenver.com
X-WR-CALDESC:Events for 
BEGIN:VTIMEZONE
TZID:America/Denver
BEGIN:DAYLIGHT
TZOFFSETFROM:-0700
TZOFFSETTO:-0600
TZNAME:MDT
DTSTART:20140309T090000
END:DAYLIGHT
BEGIN:STANDARD
TZOFFSETFROM:-0600
TZOFFSETTO:-0700
TZNAME:MST
DTSTART:20141102T080000
END:STANDARD
END:VTIMEZONE
BEGIN:VEVENT
DTSTART;TZID=America/Denver:20140128T180000
DTEND;TZID=America/Denver:20140128T200000
DTSTAMP:20260425T161217
CREATED:20140114T211608Z
LAST-MODIFIED:20140128T135146Z
UID:2336-1390932000-1390939200@lowrydenver.com
SUMMARY:LCMA Board of Directors Meeting
DESCRIPTION:Lowry Community Master Association Board of Directors Meeting on Tuesday\, January 28th at 6P in the Eisenhower Chapel\, 293 Roslyn St.\, Denver\, CO 80230.  Meetings are open to LCMA members.  If you have any questions about the Board Meeting\, please contact Executive Director Mary Carr at (720) 583-5262. \nAgenda\n \nCALL TO ORDER  \nROLL CALL  \nPUBLIC COMMENT \nCommercial Traffic / Routes in Lowry \nLowry Foundation  \nACTION ITEMS\n \n\nApprove meeting minutes from November 4\, 2013 \nReview annual meeting minutes from December 12\, 2013 \nSign / Approve Resolutions \n\n\n\n2014 LCMA Board Meeting Schedule (2014-01)\n2014 Annual Meeting Date (2014-02)\n2013 Audit of Financial Records (2014-03) \n\n\n\n\nAppoint officers \n\n\n\n\nReview standing committees & appoint committee members \nLowry Vista\nCOMMITTEE REPORTS \n\nExecutive Committee\n\nApproval of year-end financials\n\n\nBuildings and Grounds Committee\nEvents Committee \nExecutive Director’s Report\n\nKaren Becker Retirement \n\n\n\n\n\nOTHER BUSINESS  \nNEXT MEETING:  TBD  \nADJOURNMENT \n
URL:https://lowrydenver.com/calendar-item/lcma-board-meeting-2/
LOCATION:Eisenhower Chapel Loft\, 293 Roslyn St\, Denver\, CO\, 80230\, United States
CATEGORIES:Board Meetings
GEO:39.7213079;-104.9016882
X-APPLE-STRUCTURED-LOCATION;VALUE=URI;X-ADDRESS=Eisenhower Chapel Loft 293 Roslyn St Denver CO 80230 United States;X-APPLE-RADIUS=500;X-TITLE=293 Roslyn St:geo:-104.9016882,39.7213079
END:VEVENT
END:VCALENDAR