BEGIN:VCALENDAR
VERSION:2.0
PRODID:-// - ECPv5.0.1//NONSGML v1.0//EN
CALSCALE:GREGORIAN
METHOD:PUBLISH
X-ORIGINAL-URL:https://lowrydenver.com
X-WR-CALDESC:Events for 
BEGIN:VTIMEZONE
TZID:America/Denver
BEGIN:DAYLIGHT
TZOFFSETFROM:-0700
TZOFFSETTO:-0600
TZNAME:MDT
DTSTART:20150308T090000
END:DAYLIGHT
BEGIN:STANDARD
TZOFFSETFROM:-0600
TZOFFSETTO:-0700
TZNAME:MST
DTSTART:20151101T080000
END:STANDARD
END:VTIMEZONE
BEGIN:VEVENT
DTSTART;TZID=America/Denver:20151120T120000
DTEND;TZID=America/Denver:20151120T133000
DTSTAMP:20260425T191458
CREATED:20151028T015035Z
LAST-MODIFIED:20151028T015035Z
UID:4816-1448020800-1448026200@lowrydenver.com
SUMMARY:LBA Monthly Networking and Lunch/Learn.
DESCRIPTION:This is a chance for businesses and professionals to meet and share news and information about their businesses.  Each month a member has an opportunity to give a presentation that are of value to other members.  Paden Wolfe of Mile High Physical Therapy will present at the November meeting. \n
URL:https://lowrydenver.com/calendar-item/lba-monthly-networking-and-lunchlearn/
LOCATION:Colorado Free University\, 7653 E. 1st Place\, Denver\, CO\, 80230\, United States
CATEGORIES:LBA
GEO:39.7218074;-104.8976981
X-APPLE-STRUCTURED-LOCATION;VALUE=URI;X-ADDRESS=Colorado Free University 7653 E. 1st Place Denver CO 80230 United States;X-APPLE-RADIUS=500;X-TITLE=7653 E. 1st Place:geo:-104.8976981,39.7218074
END:VEVENT
END:VCALENDAR