BEGIN:VCALENDAR
VERSION:2.0
PRODID:-// - ECPv5.0.1//NONSGML v1.0//EN
CALSCALE:GREGORIAN
METHOD:PUBLISH
X-ORIGINAL-URL:https://lowrydenver.com
X-WR-CALDESC:Events for 
BEGIN:VTIMEZONE
TZID:America/Denver
BEGIN:DAYLIGHT
TZOFFSETFROM:-0700
TZOFFSETTO:-0600
TZNAME:MDT
DTSTART:20190310T090000
END:DAYLIGHT
BEGIN:STANDARD
TZOFFSETFROM:-0600
TZOFFSETTO:-0700
TZNAME:MST
DTSTART:20191103T080000
END:STANDARD
END:VTIMEZONE
BEGIN:VEVENT
DTSTART;TZID=America/Denver:20191024T173000
DTEND;TZID=America/Denver:20191024T193000
DTSTAMP:20260421T180805
CREATED:20191001T191837Z
LAST-MODIFIED:20191001T191837Z
UID:10959-1571938200-1571945400@lowrydenver.com
SUMMARY:LBA Monthly Mixer
DESCRIPTION:hosted by ACES DJ & The Lowry Foundation \n  \nRSVP to admin@lowrybusinessalliance.com \n
URL:https://lowrydenver.com/calendar-item/lba-monthly-mixer-5/
LOCATION:CO
CATEGORIES:LBA
END:VEVENT
END:VCALENDAR