BEGIN:VCALENDAR
VERSION:2.0
PRODID:-// - ECPv5.0.1//NONSGML v1.0//EN
CALSCALE:GREGORIAN
METHOD:PUBLISH
X-ORIGINAL-URL:https://lowrydenver.com
X-WR-CALDESC:Events for 
BEGIN:VTIMEZONE
TZID:America/Denver
BEGIN:DAYLIGHT
TZOFFSETFROM:-0700
TZOFFSETTO:-0600
TZNAME:MDT
DTSTART:20190310T090000
END:DAYLIGHT
BEGIN:STANDARD
TZOFFSETFROM:-0600
TZOFFSETTO:-0700
TZNAME:MST
DTSTART:20191103T080000
END:STANDARD
END:VTIMEZONE
BEGIN:VEVENT
DTSTART;TZID=America/Denver:20190321T173000
DTEND;TZID=America/Denver:20190321T193000
DTSTAMP:20260425T190708
CREATED:20190216T223133Z
LAST-MODIFIED:20190216T223133Z
UID:8823-1553189400-1553196600@lowrydenver.com
SUMMARY:LBA Monthly Mixer
DESCRIPTION:Location TBD; RSVP to ndipaolo@cobnks.com \n
URL:https://lowrydenver.com/calendar-item/lba-monthly-mixer-2/
LOCATION:CO
CATEGORIES:LBA
END:VEVENT
END:VCALENDAR