BEGIN:VCALENDAR
VERSION:2.0
PRODID:-// - ECPv5.0.1//NONSGML v1.0//EN
CALSCALE:GREGORIAN
METHOD:PUBLISH
X-ORIGINAL-URL:https://lowrydenver.com
X-WR-CALDESC:Events for 
BEGIN:VTIMEZONE
TZID:America/Denver
BEGIN:DAYLIGHT
TZOFFSETFROM:-0700
TZOFFSETTO:-0600
TZNAME:MDT
DTSTART:20160313T090000
END:DAYLIGHT
BEGIN:STANDARD
TZOFFSETFROM:-0600
TZOFFSETTO:-0700
TZNAME:MST
DTSTART:20161106T080000
END:STANDARD
END:VTIMEZONE
BEGIN:VEVENT
DTSTART;TZID=America/Denver:20160616T173000
DTEND;TZID=America/Denver:20160616T190000
DTSTAMP:20260423T195757
CREATED:20160524T212451Z
LAST-MODIFIED:20160524T212451Z
UID:5607-1466098200-1466103600@lowrydenver.com
SUMMARY:LBA Happy Hour 5:30-7:30P
DESCRIPTION:Happy Hour at the office of Dr. Matt Schacht. Join us for an evening of drinks\, hors d’oeuvres and networking. \n
URL:https://lowrydenver.com/calendar-item/lba-happy-hour/
LOCATION:Medical Offices\, 130 Rampart Way\, Denver\, 80230\, United States
GEO:39.7206473;-104.8982871
X-APPLE-STRUCTURED-LOCATION;VALUE=URI;X-ADDRESS=Medical Offices 130 Rampart Way Denver 80230 United States;X-APPLE-RADIUS=500;X-TITLE=130 Rampart Way:geo:-104.8982871,39.7206473
END:VEVENT
END:VCALENDAR