BEGIN:VCALENDAR
VERSION:2.0
PRODID:-// - ECPv5.0.1//NONSGML v1.0//EN
CALSCALE:GREGORIAN
METHOD:PUBLISH
X-ORIGINAL-URL:https://lowrydenver.com
X-WR-CALDESC:Events for 
BEGIN:VTIMEZONE
TZID:America/Denver
BEGIN:DAYLIGHT
TZOFFSETFROM:-0700
TZOFFSETTO:-0600
TZNAME:MDT
DTSTART:20140309T090000
END:DAYLIGHT
BEGIN:STANDARD
TZOFFSETFROM:-0600
TZOFFSETTO:-0700
TZNAME:MST
DTSTART:20141102T080000
END:STANDARD
END:VTIMEZONE
BEGIN:VEVENT
DTSTART;TZID=America/Denver:20140515T073000
DTEND;TZID=America/Denver:20140515T090000
DTSTAMP:20260425T131202
CREATED:20140308T182635Z
LAST-MODIFIED:20140308T182635Z
UID:2423-1400139000-1400144400@lowrydenver.com
SUMMARY:Executive Committee Meeting:  7-8:30A @ Hangar 2
DESCRIPTION:Time:  7-8:30A \nLocation:  Hangar 2\, 7581 E Academy Blvd.\, Denver\, CO 80230\, First Floor Conference Room \nTo attend\, please contact Mary Carr at (720) 583-5262 \n
URL:https://lowrydenver.com/calendar-item/executive-committee-meeting-5-7/
LOCATION:Hangar 2’s first floor conference room\, 7581 E Academy Blvd\, Denver\, CO\, 80230\, United States
CATEGORIES:Board Meetings
GEO:39.7198599;-104.8967046
X-APPLE-STRUCTURED-LOCATION;VALUE=URI;X-ADDRESS=Hangar 2’s first floor conference room 7581 E Academy Blvd Denver CO 80230 United States;X-APPLE-RADIUS=500;X-TITLE=7581 E Academy Blvd:geo:-104.8967046,39.7198599
END:VEVENT
END:VCALENDAR