BEGIN:VCALENDAR
VERSION:2.0
PRODID:-// - ECPv5.0.1//NONSGML v1.0//EN
CALSCALE:GREGORIAN
METHOD:PUBLISH
X-ORIGINAL-URL:https://lowrydenver.com
X-WR-CALDESC:Events for 
BEGIN:VTIMEZONE
TZID:America/Denver
BEGIN:DAYLIGHT
TZOFFSETFROM:-0700
TZOFFSETTO:-0600
TZNAME:MDT
DTSTART:20130310T090000
END:DAYLIGHT
BEGIN:STANDARD
TZOFFSETFROM:-0600
TZOFFSETTO:-0700
TZNAME:MST
DTSTART:20131103T080000
END:STANDARD
END:VTIMEZONE
BEGIN:VEVENT
DTSTART;TZID=America/Denver:20131017T073000
DTEND;TZID=America/Denver:20131017T090000
DTSTAMP:20260425T143619
CREATED:20130918T011447Z
LAST-MODIFIED:20130918T011447Z
UID:2130-1381995000-1382000400@lowrydenver.com
SUMMARY:Executive Committee Meeting
DESCRIPTION:Time:  7:30-9:00am \nLocation:  Hangar 2\, 7581 E Academy Blvd.\, Denver\, CO 80230\, First Floor Conference Room \nTo attend\, you must contact Mary Carr at (720) 583-5262 \n
URL:https://lowrydenver.com/calendar-item/executive-committee-meeting-3/
LOCATION:Hangar 2’s first floor conference room\, 7581 E Academy Blvd\, Denver\, CO\, 80230\, United States
GEO:39.7198599;-104.8967046
X-APPLE-STRUCTURED-LOCATION;VALUE=URI;X-ADDRESS=Hangar 2’s first floor conference room 7581 E Academy Blvd Denver CO 80230 United States;X-APPLE-RADIUS=500;X-TITLE=7581 E Academy Blvd:geo:-104.8967046,39.7198599
END:VEVENT
END:VCALENDAR