BEGIN:VCALENDAR
VERSION:2.0
PRODID:-// - ECPv5.0.1//NONSGML v1.0//EN
CALSCALE:GREGORIAN
METHOD:PUBLISH
X-ORIGINAL-URL:https://lowrydenver.com
X-WR-CALDESC:Events for 
BEGIN:VTIMEZONE
TZID:America/Denver
BEGIN:DAYLIGHT
TZOFFSETFROM:-0700
TZOFFSETTO:-0600
TZNAME:MDT
DTSTART:20150308T090000
END:DAYLIGHT
BEGIN:STANDARD
TZOFFSETFROM:-0600
TZOFFSETTO:-0700
TZNAME:MST
DTSTART:20151101T080000
END:STANDARD
END:VTIMEZONE
BEGIN:VEVENT
DTSTART;TZID=America/Denver:20150314T100000
DTEND;TZID=America/Denver:20150314T113000
DTSTAMP:20260422T022947
CREATED:20150127T205247Z
LAST-MODIFIED:20150218T184320Z
UID:3367-1426327200-1426332600@lowrydenver.com
SUMMARY:District 6 - Town Hall Meeting 10-11:30A
DESCRIPTION:Lowry’s State Representative for District 6 (Lois Court) will be co-hosting several TOWN HALL meetings at the Lowry Eisenhower Chapel with State Senator Pat Steadman.  \nFor more information or questions\, contact Ms. Court’s office at www.loiscourt.com. \n
URL:https://lowrydenver.com/calendar-item/district-6-town-hall-meeting/
LOCATION:Eisenhower Chapel\, 293 Roslyn Street\, Denver\, CO\, 80230\, United States
CATEGORIES:Events
GEO:39.7213079;-104.9016882
X-APPLE-STRUCTURED-LOCATION;VALUE=URI;X-ADDRESS=Eisenhower Chapel 293 Roslyn Street Denver CO 80230 United States;X-APPLE-RADIUS=500;X-TITLE=293 Roslyn Street:geo:-104.9016882,39.7213079
END:VEVENT
END:VCALENDAR