BEGIN:VCALENDAR
VERSION:2.0
PRODID:-// - ECPv5.0.1//NONSGML v1.0//EN
CALSCALE:GREGORIAN
METHOD:PUBLISH
X-ORIGINAL-URL:https://lowrydenver.com
X-WR-CALDESC:Events for 
BEGIN:VTIMEZONE
TZID:America/Denver
BEGIN:DAYLIGHT
TZOFFSETFROM:-0700
TZOFFSETTO:-0600
TZNAME:MDT
DTSTART:20230312T090000
END:DAYLIGHT
BEGIN:STANDARD
TZOFFSETFROM:-0600
TZOFFSETTO:-0700
TZNAME:MST
DTSTART:20231105T080000
END:STANDARD
END:VTIMEZONE
BEGIN:VEVENT
DTSTART;TZID=America/Denver:20231207T183000
DTEND;TZID=America/Denver:20231207T200000
DTSTAMP:20260425T131931
CREATED:20230418T182329Z
LAST-MODIFIED:20230418T182329Z
UID:11879-1701973800-1701979200@lowrydenver.com
SUMMARY:Annual Meeting
DESCRIPTION:Immediately following the Budget Ratification Meeting. Relevant documents will be mailed ahead of time. \n
URL:https://lowrydenver.com/calendar-item/annual-meeting/
LOCATION:Eisenhower Chapel\, 293 Roslyn Street\, Denver\, CO\, 80230\, United States
CATEGORIES:Board Meetings
GEO:39.7213079;-104.9016882
X-APPLE-STRUCTURED-LOCATION;VALUE=URI;X-ADDRESS=Eisenhower Chapel 293 Roslyn Street Denver CO 80230 United States;X-APPLE-RADIUS=500;X-TITLE=293 Roslyn Street:geo:-104.9016882,39.7213079
END:VEVENT
END:VCALENDAR