BEGIN:VCALENDAR
VERSION:2.0
PRODID:-// - ECPv5.0.1//NONSGML v1.0//EN
CALSCALE:GREGORIAN
METHOD:PUBLISH
X-ORIGINAL-URL:https://lowrydenver.com
X-WR-CALDESC:Events for 
BEGIN:VTIMEZONE
TZID:America/Denver
BEGIN:DAYLIGHT
TZOFFSETFROM:-0700
TZOFFSETTO:-0600
TZNAME:MDT
DTSTART:20160313T090000
END:DAYLIGHT
BEGIN:STANDARD
TZOFFSETFROM:-0600
TZOFFSETTO:-0700
TZNAME:MST
DTSTART:20161106T080000
END:STANDARD
END:VTIMEZONE
BEGIN:VEVENT
DTSTART;TZID=America/Denver:20160723T160000
DTEND;TZID=America/Denver:20160723T190000
DTSTAMP:20260421T204850
CREATED:20160503T211202Z
LAST-MODIFIED:20160705T220636Z
UID:5431-1469289600-1469300400@lowrydenver.com
SUMMARY:1ST Annual LBA Old Fashioned Company Picnic
DESCRIPTION: \nBurgers and beer provided\, bring a side dish or favorite picnic food to share.\nThe community is welcome; bring your families.\nRSVP Helen@compuskills.com \n
URL:https://lowrydenver.com/calendar-item/1st-annual-lba-old-fashioned-company-picnic/
LOCATION:Crescent Park\, 782 N Roslyn St. \, Denver\, CO\, 80230\, United States
GEO:39.7305775;-104.9011447
X-APPLE-STRUCTURED-LOCATION;VALUE=URI;X-ADDRESS=Crescent Park 782 N Roslyn St.  Denver CO 80230 United States;X-APPLE-RADIUS=500;X-TITLE=782 N Roslyn St.:geo:-104.9011447,39.7305775
END:VEVENT
END:VCALENDAR